BEGIN:VCALENDAR
VERSION:2.0
PRODID:-//Cotswold Sewing School - ECPv6.15.1.1//NONSGML v1.0//EN
CALSCALE:GREGORIAN
METHOD:PUBLISH
X-ORIGINAL-URL:https://www.thecotswoldsewingschool.co.uk
X-WR-CALDESC:Events for Cotswold Sewing School
REFRESH-INTERVAL;VALUE=DURATION:PT1H
X-Robots-Tag:noindex
X-PUBLISHED-TTL:PT1H
BEGIN:VTIMEZONE
TZID:Europe/London
BEGIN:DAYLIGHT
TZOFFSETFROM:+0000
TZOFFSETTO:+0100
TZNAME:BST
DTSTART:20220327T010000
END:DAYLIGHT
BEGIN:STANDARD
TZOFFSETFROM:+0100
TZOFFSETTO:+0000
TZNAME:GMT
DTSTART:20221030T010000
END:STANDARD
BEGIN:DAYLIGHT
TZOFFSETFROM:+0000
TZOFFSETTO:+0100
TZNAME:BST
DTSTART:20230326T010000
END:DAYLIGHT
BEGIN:STANDARD
TZOFFSETFROM:+0100
TZOFFSETTO:+0000
TZNAME:GMT
DTSTART:20231029T010000
END:STANDARD
BEGIN:DAYLIGHT
TZOFFSETFROM:+0000
TZOFFSETTO:+0100
TZNAME:BST
DTSTART:20240331T010000
END:DAYLIGHT
BEGIN:STANDARD
TZOFFSETFROM:+0100
TZOFFSETTO:+0000
TZNAME:GMT
DTSTART:20241027T010000
END:STANDARD
BEGIN:DAYLIGHT
TZOFFSETFROM:+0000
TZOFFSETTO:+0100
TZNAME:BST
DTSTART:20250330T010000
END:DAYLIGHT
BEGIN:STANDARD
TZOFFSETFROM:+0100
TZOFFSETTO:+0000
TZNAME:GMT
DTSTART:20251026T010000
END:STANDARD
BEGIN:DAYLIGHT
TZOFFSETFROM:+0000
TZOFFSETTO:+0100
TZNAME:BST
DTSTART:20260329T010000
END:DAYLIGHT
BEGIN:STANDARD
TZOFFSETFROM:+0100
TZOFFSETTO:+0000
TZNAME:GMT
DTSTART:20261025T010000
END:STANDARD
END:VTIMEZONE
BEGIN:VEVENT
DTSTART;TZID=Europe/London:20260203T093000
DTEND;TZID=Europe/London:20260203T173000
DTSTAMP:20260420T153837
CREATED:20250908T210928Z
LAST-MODIFIED:20260105T131848Z
UID:25814198-1770111000-1770139800@www.thecotswoldsewingschool.co.uk
SUMMARY:Bolster cushions - (SOLD OUT)
DESCRIPTION:
URL:https://www.thecotswoldsewingschool.co.uk/event/bolster-cushions-10/
LOCATION:Cotswold Sewing School\, Twigworth Court Business Centre\, Twigworth\, Gloucestershire\, GL2 9PG\, United Kingdom
CATEGORIES:Bolster cushions
END:VEVENT
BEGIN:VEVENT
DTSTART;TZID=Europe/London:20250606T093000
DTEND;TZID=Europe/London:20250606T170000
DTSTAMP:20260420T153837
CREATED:20241221T144954Z
LAST-MODIFIED:20241221T145144Z
UID:23418455-1749202200-1749229200@www.thecotswoldsewingschool.co.uk
SUMMARY:Bolster cushions
DESCRIPTION:
URL:https://www.thecotswoldsewingschool.co.uk/event/bolster-cushions-8/
LOCATION:Cotswold Sewing School\, Twigworth Court Business Centre\, Twigworth\, Gloucestershire\, GL2 9PG\, United Kingdom
CATEGORIES:Bolster cushions
END:VEVENT
BEGIN:VEVENT
DTSTART;TZID=Europe/London:20250211T093000
DTEND;TZID=Europe/London:20250211T170000
DTSTAMP:20260420T153837
CREATED:20240831T142223Z
LAST-MODIFIED:20241223T222005Z
UID:23418447-1739266200-1739293200@www.thecotswoldsewingschool.co.uk
SUMMARY:Bolster cushions
DESCRIPTION:
URL:https://www.thecotswoldsewingschool.co.uk/event/bolster-cushions-7/
LOCATION:Cotswold Sewing School\, Twigworth Court Business Centre\, Twigworth\, Gloucestershire\, GL2 9PG\, United Kingdom
CATEGORIES:Bolster cushions
ATTACH;FMTTYPE=image/jpeg:https://www.thecotswoldsewingschool.co.uk/wp-content/uploads/2022/05/bolster-cushions.jpg
END:VEVENT
BEGIN:VEVENT
DTSTART;TZID=Europe/London:20241120T093000
DTEND;TZID=Europe/London:20241120T163000
DTSTAMP:20260420T153837
CREATED:20240328T125848Z
LAST-MODIFIED:20241112T164008Z
UID:23417625-1732095000-1732120200@www.thecotswoldsewingschool.co.uk
SUMMARY:Bolster cushions
DESCRIPTION:
URL:https://www.thecotswoldsewingschool.co.uk/event/bolster-cushions-9/
LOCATION:Cotswold Sewing School\, Twigworth Court Business Centre\, Twigworth\, Gloucestershire\, GL2 9PG\, United Kingdom
CATEGORIES:Bolster cushions
ATTACH;FMTTYPE=image/jpeg:https://www.thecotswoldsewingschool.co.uk/wp-content/uploads/2022/05/bolster-cushions.jpg
END:VEVENT
BEGIN:VEVENT
DTSTART;TZID=Europe/London:20240718T093000
DTEND;TZID=Europe/London:20240718T170000
DTSTAMP:20260420T153837
CREATED:20240127T121453Z
LAST-MODIFIED:20240714T132347Z
UID:278343-1721295000-1721322000@www.thecotswoldsewingschool.co.uk
SUMMARY:Bolster cushions
DESCRIPTION:
URL:https://www.thecotswoldsewingschool.co.uk/event/bolster-cushions-2/
CATEGORIES:Bolster cushions
ATTACH;FMTTYPE=image/jpeg:https://www.thecotswoldsewingschool.co.uk/wp-content/uploads/2022/05/bolster-cushions.jpg
END:VEVENT
BEGIN:VEVENT
DTSTART;TZID=Europe/London:20240507T093000
DTEND;TZID=Europe/London:20240507T163000
DTSTAMP:20260420T153837
CREATED:20240328T113312Z
LAST-MODIFIED:20240328T150807Z
UID:23417599-1715074200-1715099400@www.thecotswoldsewingschool.co.uk
SUMMARY:Bolster cushions
DESCRIPTION:
URL:https://www.thecotswoldsewingschool.co.uk/event/bolster-cushions-3/
LOCATION:Cotswold Sewing School\, Twigworth Court Business Centre\, Twigworth\, Gloucestershire\, GL2 9PG\, United Kingdom
CATEGORIES:Bolster cushions
ATTACH;FMTTYPE=image/jpeg:https://www.thecotswoldsewingschool.co.uk/wp-content/uploads/2022/05/bolster-cushions.jpg
END:VEVENT
BEGIN:VEVENT
DTSTART;TZID=Europe/London:20240216T093000
DTEND;TZID=Europe/London:20240216T163000
DTSTAMP:20260420T153837
CREATED:20231130T121429Z
LAST-MODIFIED:20231130T121429Z
UID:278044-1708075800-1708101000@www.thecotswoldsewingschool.co.uk
SUMMARY:Bolster cushions
DESCRIPTION:
URL:https://www.thecotswoldsewingschool.co.uk/event/bolster-cushions/
LOCATION:Cotswold Sewing School\, Twigworth Court Business Centre\, Twigworth\, Gloucestershire\, GL2 9PG\, United Kingdom
CATEGORIES:Bolster cushions
ATTACH;FMTTYPE=image/jpeg:https://www.thecotswoldsewingschool.co.uk/wp-content/uploads/2022/05/bolster-cushions.jpg
END:VEVENT
BEGIN:VEVENT
DTSTART;TZID=Europe/London:20230928T093000
DTEND;TZID=Europe/London:20230928T163000
DTSTAMP:20260420T153837
CREATED:20221107T131832Z
LAST-MODIFIED:20230125T101147Z
UID:276364-1695893400-1695918600@www.thecotswoldsewingschool.co.uk
SUMMARY:Bolster cushions
DESCRIPTION:
URL:https://www.thecotswoldsewingschool.co.uk/event/bolster-cushions-6/
CATEGORIES:Bolster cushions
ATTACH;FMTTYPE=image/jpeg:https://www.thecotswoldsewingschool.co.uk/wp-content/uploads/2022/05/bolster-cushions.jpg
END:VEVENT
BEGIN:VEVENT
DTSTART;TZID=Europe/London:20230606T093000
DTEND;TZID=Europe/London:20230606T160000
DTSTAMP:20260420T153838
CREATED:20221107T111636Z
LAST-MODIFIED:20230216T144834Z
UID:276377-1686043800-1686067200@www.thecotswoldsewingschool.co.uk
SUMMARY:Bolster cushions
DESCRIPTION:
URL:https://www.thecotswoldsewingschool.co.uk/event/bolster-cushions-5/
LOCATION:Cotswold Sewing School\, Twigworth Court Business Centre\, Twigworth\, Gloucestershire\, GL2 9PG\, United Kingdom
CATEGORIES:Bolster cushions
ATTACH;FMTTYPE=image/jpeg:https://www.thecotswoldsewingschool.co.uk/wp-content/uploads/2022/05/bolster-cushions.jpg
END:VEVENT
BEGIN:VEVENT
DTSTART;TZID=Europe/London:20221221T093000
DTEND;TZID=Europe/London:20221221T160000
DTSTAMP:20260420T153838
CREATED:20220801T205726Z
LAST-MODIFIED:20220903T094948Z
UID:276260-1671615000-1671638400@www.thecotswoldsewingschool.co.uk
SUMMARY:Bolster cushions
DESCRIPTION:
URL:https://www.thecotswoldsewingschool.co.uk/event/bolster-cushions-4/
CATEGORIES:Bolster cushions
ATTACH;FMTTYPE=image/jpeg:https://www.thecotswoldsewingschool.co.uk/wp-content/uploads/2022/05/bolster-cushions.jpg
END:VEVENT
END:VCALENDAR