BEGIN:VCALENDAR
VERSION:2.0
PRODID:-//Cotswold Sewing School - ECPv6.15.1.1//NONSGML v1.0//EN
CALSCALE:GREGORIAN
METHOD:PUBLISH
X-ORIGINAL-URL:https://www.thecotswoldsewingschool.co.uk
X-WR-CALDESC:Events for Cotswold Sewing School
REFRESH-INTERVAL;VALUE=DURATION:PT1H
X-Robots-Tag:noindex
X-PUBLISHED-TTL:PT1H
BEGIN:VTIMEZONE
TZID:Europe/London
BEGIN:DAYLIGHT
TZOFFSETFROM:+0000
TZOFFSETTO:+0100
TZNAME:BST
DTSTART:20230326T010000
END:DAYLIGHT
BEGIN:STANDARD
TZOFFSETFROM:+0100
TZOFFSETTO:+0000
TZNAME:GMT
DTSTART:20231029T010000
END:STANDARD
END:VTIMEZONE
BEGIN:VEVENT
DTSTART;TZID=Europe/London:20230909T093000
DTEND;TZID=Europe/London:20230910T163000
DTSTAMP:20260419T180005
CREATED:20230715T074252Z
LAST-MODIFIED:20230721T125120Z
UID:277824-1694251800-1694363400@www.thecotswoldsewingschool.co.uk
SUMMARY:Complete Roman Blind - 2 Day Course *SOLD OUT*
DESCRIPTION:Your complete guide to making roman blinds. \nYou will complete 2 roman blinds and have them to take home with you. \nYour 1st will be a lined roman blind with invisible stitching. \nYour 2nd will be an interlined roman blind with a trim. \nAfter this 2 day course\, you will have all the skill sets required to be able to make almost all roman blinds. Thats why we do it over two days 🙂
URL:https://www.thecotswoldsewingschool.co.uk/event/complete-roman-blind-2-day-course-4/2023-09-09/
LOCATION:Cotswold Sewing School\, Twigworth Court Business Centre\, Twigworth\, Gloucestershire\, GL2 9PG\, United Kingdom
CATEGORIES:Roman Blinds
END:VEVENT
BEGIN:VEVENT
DTSTART;TZID=Europe/London:20230912T093000
DTEND;TZID=Europe/London:20230912T160000
DTSTAMP:20260419T180005
CREATED:20230706T100922Z
LAST-MODIFIED:20230715T191225Z
UID:277779-1694511000-1694534400@www.thecotswoldsewingschool.co.uk
SUMMARY:Frill cushion course
DESCRIPTION:learn how to make a cushion with pleated trim and concealed zip.
URL:https://www.thecotswoldsewingschool.co.uk/event/event-frill-cushion-course-2/
LOCATION:Cotswold Sewing School\, Twigworth Court Business Centre\, Twigworth\, Gloucestershire\, GL2 9PG\, United Kingdom
CATEGORIES:frill cushion course
END:VEVENT
BEGIN:VEVENT
DTSTART;TZID=Europe/London:20230914T093000
DTEND;TZID=Europe/London:20230914T160000
DTSTAMP:20260419T180005
CREATED:20230117T165611Z
LAST-MODIFIED:20230322T211956Z
UID:276425-1694683800-1694707200@www.thecotswoldsewingschool.co.uk
SUMMARY:Cushion Covers for Beginners
DESCRIPTION:
URL:https://www.thecotswoldsewingschool.co.uk/event/cushion-covers-for-beginners-2/
LOCATION:Cotswold Sewing School\, Twigworth Court Business Centre\, Twigworth\, Gloucestershire\, GL2 9PG\, United Kingdom
CATEGORIES:Beginners Cushions
END:VEVENT
BEGIN:VEVENT
DTSTART;TZID=Europe/London:20230914T093000
DTEND;TZID=Europe/London:20230914T170000
DTSTAMP:20260419T180005
CREATED:20240328T203751Z
LAST-MODIFIED:20240328T203751Z
UID:23417611-1694683800-1694710800@www.thecotswoldsewingschool.co.uk
SUMMARY:Piped footstool course
DESCRIPTION:This course has a 25% discount!! Please use code NEW25 at checkout. \nCourse price = £217pp   Offer price with discount code = £162.75 saving £54.25!!!!
URL:https://www.thecotswoldsewingschool.co.uk/event/piped-footstool-course-7/
LOCATION:Cotswold Sewing School\, Twigworth Court Business Centre\, Twigworth\, Gloucestershire\, GL2 9PG\, United Kingdom
CATEGORIES:Piped footstool course
END:VEVENT
BEGIN:VEVENT
DTSTART;TZID=Europe/London:20230915T093000
DTEND;TZID=Europe/London:20230915T163000
DTSTAMP:20260419T180005
CREATED:20221107T105645Z
LAST-MODIFIED:20230911T170330Z
UID:276166-1694770200-1694795400@www.thecotswoldsewingschool.co.uk
SUMMARY:How to make box cushions
DESCRIPTION:
URL:https://www.thecotswoldsewingschool.co.uk/event/how-to-make-box-cushions-5/
LOCATION:Cotswold Sewing School\, Twigworth Court Business Centre\, Twigworth\, Gloucestershire\, GL2 9PG\, United Kingdom
CATEGORIES:box cushions,Advanced Cushions
END:VEVENT
BEGIN:VEVENT
DTSTART;TZID=Europe/London:20230916T093000
DTEND;TZID=Europe/London:20230916T173000
DTSTAMP:20260419T180005
CREATED:20230612T190747Z
LAST-MODIFIED:20230612T190814Z
UID:277659-1694856600-1694885400@www.thecotswoldsewingschool.co.uk
SUMMARY:Deep buttoned footstool course
DESCRIPTION:
URL:https://www.thecotswoldsewingschool.co.uk/event/deep-buttoned-footstool-course-5/
LOCATION:Cotswold Sewing School\, Twigworth Court Business Centre\, Twigworth\, Gloucestershire\, GL2 9PG\, United Kingdom
CATEGORIES:Deep buttoned footstool course
END:VEVENT
BEGIN:VEVENT
DTSTART;TZID=Europe/London:20230923T093000
DTEND;TZID=Europe/London:20230923T163000
DTSTAMP:20260419T180005
CREATED:20230117T163531Z
LAST-MODIFIED:20230908T095600Z
UID:276423-1695461400-1695486600@www.thecotswoldsewingschool.co.uk
SUMMARY:Advanced Cushion making
DESCRIPTION:Learn to make a piped cushion with invisible zip. We will also look at how to attach other trims and join fabrics so you can get really creative once home 🙂
URL:https://www.thecotswoldsewingschool.co.uk/event/advanced-cushion-making-2/
LOCATION:Cotswold Sewing School\, Twigworth Court Business Centre\, Twigworth\, Gloucestershire\, GL2 9PG\, United Kingdom
CATEGORIES:Advanced Cushions
END:VEVENT
BEGIN:VEVENT
DTSTART;TZID=Europe/London:20230926T093000
DTEND;TZID=Europe/London:20230926T173000
DTSTAMP:20260419T180005
CREATED:20230703T101727Z
LAST-MODIFIED:20230703T101727Z
UID:277649-1695720600-1695749400@www.thecotswoldsewingschool.co.uk
SUMMARY:Advanced Curtain making - 1 Day Course
DESCRIPTION:
URL:https://www.thecotswoldsewingschool.co.uk/event/advanced-curtain-making-1-day-course/
LOCATION:Cotswold Sewing School\, Twigworth Court Business Centre\, Twigworth\, Gloucestershire\, GL2 9PG\, United Kingdom
CATEGORIES:Advanced Curtains
END:VEVENT
BEGIN:VEVENT
DTSTART;TZID=Europe/London:20230928T093000
DTEND;TZID=Europe/London:20230928T163000
DTSTAMP:20260419T180005
CREATED:20221107T131832Z
LAST-MODIFIED:20230125T101147Z
UID:276364-1695893400-1695918600@www.thecotswoldsewingschool.co.uk
SUMMARY:Bolster cushions
DESCRIPTION:
URL:https://www.thecotswoldsewingschool.co.uk/event/bolster-cushions-6/
LOCATION:Gloucestershire
CATEGORIES:Bolster cushions
ATTACH;FMTTYPE=image/jpeg:https://www.thecotswoldsewingschool.co.uk/wp-content/uploads/2022/05/bolster-cushions.jpg
END:VEVENT
BEGIN:VEVENT
DTSTART;TZID=Europe/London:20230929T093000
DTEND;TZID=Europe/London:20230929T160000
DTSTAMP:20260419T180005
CREATED:20230530T171924Z
LAST-MODIFIED:20230726T084352Z
UID:276934-1695979800-1696003200@www.thecotswoldsewingschool.co.uk
SUMMARY:Beginners Curtain Making
DESCRIPTION:
URL:https://www.thecotswoldsewingschool.co.uk/event/beginners-curtain-making-2/
LOCATION:Cotswold Sewing School\, Twigworth Court Business Centre\, Twigworth\, Gloucestershire\, GL2 9PG\, United Kingdom
CATEGORIES:Beginners Curtains
END:VEVENT
BEGIN:VEVENT
DTSTART;TZID=Europe/London:20230929T093000
DTEND;TZID=Europe/London:20230929T160000
DTSTAMP:20260419T180005
CREATED:20240830T155515Z
LAST-MODIFIED:20240830T155515Z
UID:23417615-1695979800-1696003200@www.thecotswoldsewingschool.co.uk
SUMMARY:Beginners Curtain Making
DESCRIPTION:
URL:https://www.thecotswoldsewingschool.co.uk/event/beginners-curtain-making-22/
LOCATION:Cotswold Sewing School\, Twigworth Court Business Centre\, Twigworth\, Gloucestershire\, GL2 9PG\, United Kingdom
CATEGORIES:Beginners Curtains
END:VEVENT
END:VCALENDAR