BEGIN:VCALENDAR
VERSION:2.0
PRODID:-//Cotswold Sewing School - ECPv6.15.1.1//NONSGML v1.0//EN
CALSCALE:GREGORIAN
METHOD:PUBLISH
X-ORIGINAL-URL:https://www.thecotswoldsewingschool.co.uk
X-WR-CALDESC:Events for Cotswold Sewing School
REFRESH-INTERVAL;VALUE=DURATION:PT1H
X-Robots-Tag:noindex
X-PUBLISHED-TTL:PT1H
BEGIN:VTIMEZONE
TZID:Europe/London
BEGIN:DAYLIGHT
TZOFFSETFROM:+0000
TZOFFSETTO:+0100
TZNAME:BST
DTSTART:20230326T010000
END:DAYLIGHT
BEGIN:STANDARD
TZOFFSETFROM:+0100
TZOFFSETTO:+0000
TZNAME:GMT
DTSTART:20231029T010000
END:STANDARD
END:VTIMEZONE
BEGIN:VEVENT
DTSTART;TZID=Europe/London:20231102T093000
DTEND;TZID=Europe/London:20231102T160000
DTSTAMP:20260419T222628
CREATED:20230117T165333Z
LAST-MODIFIED:20231029T193017Z
UID:276921-1698917400-1698940800@www.thecotswoldsewingschool.co.uk
SUMMARY:Advanced Cushion making
DESCRIPTION:Learn to make a piped cushion with invisible zip. We will also look at how to attach other trims and join fabrics so you can get really creative once home 🙂
URL:https://www.thecotswoldsewingschool.co.uk/event/advanced-cushion-making-3/
LOCATION:Cotswold Sewing School\, Twigworth Court Business Centre\, Twigworth\, Gloucestershire\, GL2 9PG\, United Kingdom
CATEGORIES:Advanced Cushions
END:VEVENT
BEGIN:VEVENT
DTSTART;TZID=Europe/London:20231109T093000
DTEND;TZID=Europe/London:20231109T160000
DTSTAMP:20260419T222628
CREATED:20230530T180551Z
LAST-MODIFIED:20230530T180551Z
UID:277647-1699522200-1699545600@www.thecotswoldsewingschool.co.uk
SUMMARY:Beginners Curtain Making
DESCRIPTION:
URL:https://www.thecotswoldsewingschool.co.uk/event/beginners-curtain-making-3/
LOCATION:Cotswold Sewing School\, Twigworth Court Business Centre\, Twigworth\, Gloucestershire\, GL2 9PG\, United Kingdom
CATEGORIES:Beginners Curtains
END:VEVENT
BEGIN:VEVENT
DTSTART;TZID=Europe/London:20231110T093000
DTEND;TZID=Europe/London:20231110T173000
DTSTAMP:20260419T222628
CREATED:20230530T180946Z
LAST-MODIFIED:20230822T102352Z
UID:277648-1699608600-1699637400@www.thecotswoldsewingschool.co.uk
SUMMARY:Advanced Curtain making - 1 Day Course
DESCRIPTION:
URL:https://www.thecotswoldsewingschool.co.uk/event/advanced-curtain-making-1-day-course-2/
LOCATION:Cotswold Sewing School\, Twigworth Court Business Centre\, Twigworth\, Gloucestershire\, GL2 9PG\, United Kingdom
CATEGORIES:Advanced Curtains
END:VEVENT
BEGIN:VEVENT
DTSTART;TZID=Europe/London:20231114T093000
DTEND;TZID=Europe/London:20231114T163000
DTSTAMP:20260419T222628
CREATED:20230530T181206Z
LAST-MODIFIED:20230612T193855Z
UID:277644-1699954200-1699979400@www.thecotswoldsewingschool.co.uk
SUMMARY:How to make box cushions
DESCRIPTION:
URL:https://www.thecotswoldsewingschool.co.uk/event/how-to-make-box-cushions-2/
LOCATION:Cotswold Sewing School\, Twigworth Court Business Centre\, Twigworth\, Gloucestershire\, GL2 9PG\, United Kingdom
CATEGORIES:box cushions,Advanced Cushions
END:VEVENT
BEGIN:VEVENT
DTSTART;TZID=Europe/London:20231116T093000
DTEND;TZID=Europe/London:20231116T163000
DTSTAMP:20260419T222628
CREATED:20230905T133146Z
LAST-MODIFIED:20230905T133146Z
UID:278101-1700127000-1700152200@www.thecotswoldsewingschool.co.uk
SUMMARY:AMUSF Essential Soft Furnishings
DESCRIPTION:This one academic year course begins on either Thursday 21st September 2023 or Sunday the 24th of September. \nPlease confirm on lour contact form whether you wish to start on Thursday the 21st or Sunday the 24th.
URL:https://www.thecotswoldsewingschool.co.uk/event/amusf-essential-soft-furnishings-6/
LOCATION:Cotswold Sewing School\, Twigworth Court Business Centre\, Twigworth\, Gloucestershire\, GL2 9PG\, United Kingdom
CATEGORIES:Certified Course
END:VEVENT
BEGIN:VEVENT
DTSTART;TZID=Europe/London:20231118T093000
DTEND;TZID=Europe/London:20231119T163000
DTSTAMP:20260419T222628
CREATED:20230530T181645Z
LAST-MODIFIED:20230907T081614Z
UID:277676-1700299800-1700411400@www.thecotswoldsewingschool.co.uk
SUMMARY:Complete Roman Blind - 2 Day Course
DESCRIPTION:Your complete guide to making roman blinds. \nYou will complete 2 roman blinds and have them to take home with you. \nYour 1st will be a lined roman blind with invisible stitching. \nYour 2nd will be an interlined roman blind with a trim. \nAfter this 2 day course\, you will have all the skill sets required to be able to make almost all roman blinds. Thats why we do it over two days 🙂
URL:https://www.thecotswoldsewingschool.co.uk/event/complete-roman-blind-2-day-course-3/2023-11-18/
LOCATION:Cotswold Sewing School\, Twigworth Court Business Centre\, Twigworth\, Gloucestershire\, GL2 9PG\, United Kingdom
CATEGORIES:Roman Blinds
END:VEVENT
BEGIN:VEVENT
DTSTART;TZID=Europe/London:20231123T093000
DTEND;TZID=Europe/London:20231123T160000
DTSTAMP:20260419T222628
CREATED:20230731T131103Z
LAST-MODIFIED:20230731T131103Z
UID:277925-1700731800-1700755200@www.thecotswoldsewingschool.co.uk
SUMMARY:Hard Padded Pelmet Course
DESCRIPTION:
URL:https://www.thecotswoldsewingschool.co.uk/event/hard-padded-pelmet-course-3/
LOCATION:Cotswold Sewing School\, Twigworth Court Business Centre\, Twigworth\, Gloucestershire\, GL2 9PG\, United Kingdom
CATEGORIES:Pelmets
END:VEVENT
END:VCALENDAR