BEGIN:VCALENDAR
VERSION:2.0
PRODID:-//Cotswold Sewing School - ECPv6.15.1.1//NONSGML v1.0//EN
CALSCALE:GREGORIAN
METHOD:PUBLISH
X-WR-CALNAME:Cotswold Sewing School
X-ORIGINAL-URL:https://www.thecotswoldsewingschool.co.uk
X-WR-CALDESC:Events for Cotswold Sewing School
REFRESH-INTERVAL;VALUE=DURATION:PT1H
X-Robots-Tag:noindex
X-PUBLISHED-TTL:PT1H
BEGIN:VTIMEZONE
TZID:Europe/London
BEGIN:DAYLIGHT
TZOFFSETFROM:+0000
TZOFFSETTO:+0100
TZNAME:BST
DTSTART:20230326T010000
END:DAYLIGHT
BEGIN:STANDARD
TZOFFSETFROM:+0100
TZOFFSETTO:+0000
TZNAME:GMT
DTSTART:20231029T010000
END:STANDARD
END:VTIMEZONE
BEGIN:VEVENT
DTSTART;TZID=Europe/London:20231202T093000
DTEND;TZID=Europe/London:20231203T163000
DTSTAMP:20260421T174237
CREATED:20230731T124911Z
LAST-MODIFIED:20231031T081050Z
UID:277923-1701509400-1701621000@www.thecotswoldsewingschool.co.uk
SUMMARY:Complete Roman Blind - 2 Day Course
DESCRIPTION:Your complete guide to making roman blinds. \nYou will complete 2 roman blinds and have them to take home with you. \nYour 1st will be a lined roman blind with invisible stitching. \nYour 2nd will be an interlined roman blind with a trim. \nAfter this 2 day course\, you will have all the skill sets required to be able to make almost all roman blinds. Thats why we do it over two days 🙂
URL:https://www.thecotswoldsewingschool.co.uk/event/complete-roman-blind-2-day-course-5/2023-12-02/
LOCATION:Cotswold Sewing School\, Twigworth Court Business Centre\, Twigworth\, Gloucestershire\, GL2 9PG\, United Kingdom
CATEGORIES:Roman Blinds
END:VEVENT
BEGIN:VEVENT
DTSTART;TZID=Europe/London:20231207T093000
DTEND;TZID=Europe/London:20231207T160000
DTSTAMP:20260421T174237
CREATED:20230530T182021Z
LAST-MODIFIED:20230530T182021Z
UID:277655-1701941400-1701964800@www.thecotswoldsewingschool.co.uk
SUMMARY:Cushion Covers for Beginners
DESCRIPTION:
URL:https://www.thecotswoldsewingschool.co.uk/event/cushion-covers-for-beginners-3/
LOCATION:Cotswold Sewing School\, Twigworth Court Business Centre\, Twigworth\, Gloucestershire\, GL2 9PG\, United Kingdom
CATEGORIES:Beginners Cushions
END:VEVENT
BEGIN:VEVENT
DTSTART;TZID=Europe/London:20231214T093000
DTEND;TZID=Europe/London:20231214T160000
DTSTAMP:20260421T174237
CREATED:20230829T133412Z
LAST-MODIFIED:20230830T093227Z
UID:277928-1702546200-1702569600@www.thecotswoldsewingschool.co.uk
SUMMARY:Beginners Curtain Making
DESCRIPTION:
URL:https://www.thecotswoldsewingschool.co.uk/event/beginners-curtain-making-5/
LOCATION:Cotswold Sewing School\, Twigworth Court Business Centre\, Twigworth\, Gloucestershire\, GL2 9PG\, United Kingdom
CATEGORIES:Beginners Curtains
END:VEVENT
BEGIN:VEVENT
DTSTART;TZID=Europe/London:20231217T093000
DTEND;TZID=Europe/London:20231217T163000
DTSTAMP:20260421T174237
CREATED:20230803T202015Z
LAST-MODIFIED:20230905T132710Z
UID:277966-1702805400-1702830600@www.thecotswoldsewingschool.co.uk
SUMMARY:AMUSF Essential Soft Furnishings
DESCRIPTION:This 6 month fast track course begins on Saturday December 16th. \nPlease ensure you can make all studio dates.
URL:https://www.thecotswoldsewingschool.co.uk/event/amusf-essential-soft-furnishings-3/
LOCATION:Cotswold Sewing School\, Twigworth Court Business Centre\, Twigworth\, Gloucestershire\, GL2 9PG\, United Kingdom
CATEGORIES:Certified Course
END:VEVENT
BEGIN:VEVENT
DTSTART;TZID=Europe/London:20231218T093000
DTEND;TZID=Europe/London:20231218T163000
DTSTAMP:20260421T174237
CREATED:20230731T130106Z
LAST-MODIFIED:20231031T080827Z
UID:277867-1702891800-1702917000@www.thecotswoldsewingschool.co.uk
SUMMARY:Advanced Curtain Making - 1 Day Course
DESCRIPTION:Make an interlined curtain with a contrast border and beautiful hand finished headings.
URL:https://www.thecotswoldsewingschool.co.uk/event/advanced-curtain-making-1-day-course-4/
LOCATION:Cotswold Sewing School\, Twigworth Court Business Centre\, Twigworth\, Gloucestershire\, GL2 9PG\, United Kingdom
CATEGORIES:Advanced Curtains
END:VEVENT
BEGIN:VEVENT
DTSTART;TZID=Europe/London:20231221T093000
DTEND;TZID=Europe/London:20231221T163000
DTSTAMP:20260421T174237
CREATED:20230905T133439Z
LAST-MODIFIED:20230905T133439Z
UID:278103-1703151000-1703176200@www.thecotswoldsewingschool.co.uk
SUMMARY:AMUSF Essential Soft Furnishings
DESCRIPTION:This one academic year course begins on either Thursday 21st September 2023 or Sunday the 24th of September. \nPlease confirm on lour contact form whether you wish to start on Thursday the 21st or Sunday the 24th.
URL:https://www.thecotswoldsewingschool.co.uk/event/amusf-essential-soft-furnishings-8/
LOCATION:Cotswold Sewing School\, Twigworth Court Business Centre\, Twigworth\, Gloucestershire\, GL2 9PG\, United Kingdom
CATEGORIES:Certified Course
END:VEVENT
END:VCALENDAR