BEGIN:VCALENDAR
VERSION:2.0
PRODID:-//Cotswold Sewing School - ECPv6.15.1.1//NONSGML v1.0//EN
CALSCALE:GREGORIAN
METHOD:PUBLISH
X-WR-CALNAME:Cotswold Sewing School
X-ORIGINAL-URL:https://www.thecotswoldsewingschool.co.uk
X-WR-CALDESC:Events for Cotswold Sewing School
REFRESH-INTERVAL;VALUE=DURATION:PT1H
X-Robots-Tag:noindex
X-PUBLISHED-TTL:PT1H
BEGIN:VTIMEZONE
TZID:Europe/London
BEGIN:DAYLIGHT
TZOFFSETFROM:+0000
TZOFFSETTO:+0100
TZNAME:BST
DTSTART:20260329T010000
END:DAYLIGHT
BEGIN:STANDARD
TZOFFSETFROM:+0100
TZOFFSETTO:+0000
TZNAME:GMT
DTSTART:20261025T010000
END:STANDARD
END:VTIMEZONE
BEGIN:VEVENT
DTSTART;TZID=Europe/London:20260804T080000
DTEND;TZID=Europe/London:20260902T170000
DTSTAMP:20260420T140342
CREATED:20240328T131911Z
LAST-MODIFIED:20251210T151051Z
UID:23417709-1785830400-1788368400@www.thecotswoldsewingschool.co.uk
SUMMARY:CLOSED FOR SUMMER BREAK -except AMUSF Certification
DESCRIPTION:The Cotswold Sewing School will be closed from August 4th – September 2nd.
URL:https://www.thecotswoldsewingschool.co.uk/event/closed/
LOCATION:Cotswold Sewing School\, Twigworth Court Business Centre\, Twigworth\, Gloucestershire\, GL2 9PG\, United Kingdom
END:VEVENT
BEGIN:VEVENT
DTSTART;TZID=Europe/London:20260904T093000
DTEND;TZID=Europe/London:20260904T163000
DTSTAMP:20260420T140342
CREATED:20251210T151338Z
LAST-MODIFIED:20251210T151338Z
UID:25814507-1788514200-1788539400@www.thecotswoldsewingschool.co.uk
SUMMARY:Beginners Curtain Making
DESCRIPTION:
URL:https://www.thecotswoldsewingschool.co.uk/event/beginners-curtain-making-34/
LOCATION:Cotswold Sewing School\, Twigworth Court Business Centre\, Twigworth\, Gloucestershire\, GL2 9PG\, United Kingdom
CATEGORIES:Beginners Curtains
END:VEVENT
BEGIN:VEVENT
DTSTART;TZID=Europe/London:20260905T093000
DTEND;TZID=Europe/London:20260906T170000
DTSTAMP:20260420T140342
CREATED:20251210T151559Z
LAST-MODIFIED:20251210T151559Z
UID:25814504-1788600600-1788714000@www.thecotswoldsewingschool.co.uk
SUMMARY:Advanced Curtain Making - 2 Day Course
DESCRIPTION:
URL:https://www.thecotswoldsewingschool.co.uk/event/advanced-curtain-making-2-day-course-18/
LOCATION:Cotswold Sewing School\, Twigworth Court Business Centre\, Twigworth\, Gloucestershire\, GL2 9PG\, United Kingdom
CATEGORIES:Advanced Curtains
END:VEVENT
BEGIN:VEVENT
DTSTART;TZID=Europe/London:20260917T093000
DTEND;TZID=Europe/London:20260917T160000
DTSTAMP:20260420T140342
CREATED:20251210T151833Z
LAST-MODIFIED:20260224T180259Z
UID:25814523-1789637400-1789660800@www.thecotswoldsewingschool.co.uk
SUMMARY:Cushion Covers for Beginners
DESCRIPTION:
URL:https://www.thecotswoldsewingschool.co.uk/event/cushion-covers-for-beginners-20/
LOCATION:Cotswold Sewing School\, Twigworth Court Business Centre\, Twigworth\, Gloucestershire\, GL2 9PG\, United Kingdom
CATEGORIES:Beginners Cushions
END:VEVENT
BEGIN:VEVENT
DTSTART;TZID=Europe/London:20260920T093000
DTEND;TZID=Europe/London:20260920T170000
DTSTAMP:20260420T140342
CREATED:20251210T152049Z
LAST-MODIFIED:20251210T152049Z
UID:25814528-1789896600-1789923600@www.thecotswoldsewingschool.co.uk
SUMMARY:Advanced Cushion making
DESCRIPTION:
URL:https://www.thecotswoldsewingschool.co.uk/event/advanced-cushion-making-21/
LOCATION:Cotswold Sewing School\, Twigworth Court Business Centre\, Twigworth\, Gloucestershire\, GL2 9PG\, United Kingdom
CATEGORIES:Advanced Cushions
END:VEVENT
END:VCALENDAR