BEGIN:VCALENDAR
VERSION:2.0
PRODID:-//Cotswold Sewing School - ECPv6.15.1.1//NONSGML v1.0//EN
CALSCALE:GREGORIAN
METHOD:PUBLISH
X-WR-CALNAME:Cotswold Sewing School
X-ORIGINAL-URL:https://www.thecotswoldsewingschool.co.uk
X-WR-CALDESC:Events for Cotswold Sewing School
REFRESH-INTERVAL;VALUE=DURATION:PT1H
X-Robots-Tag:noindex
X-PUBLISHED-TTL:PT1H
BEGIN:VTIMEZONE
TZID:Europe/London
BEGIN:DAYLIGHT
TZOFFSETFROM:+0000
TZOFFSETTO:+0100
TZNAME:BST
DTSTART:20230326T010000
END:DAYLIGHT
BEGIN:STANDARD
TZOFFSETFROM:+0100
TZOFFSETTO:+0000
TZNAME:GMT
DTSTART:20231029T010000
END:STANDARD
END:VTIMEZONE
BEGIN:VEVENT
DTSTART;TZID=Europe/London:20230605T093000
DTEND;TZID=Europe/London:20230605T160000
DTSTAMP:20260420T131752
CREATED:20221107T145518Z
LAST-MODIFIED:20221107T145518Z
UID:276433-1685957400-1685980800@www.thecotswoldsewingschool.co.uk
SUMMARY:Cushion Covers for Beginners
DESCRIPTION:
URL:https://www.thecotswoldsewingschool.co.uk/event/cushion-covers-for-beginners-7/
LOCATION:Cotswold Sewing School\, Twigworth Court Business Centre\, Twigworth\, Gloucestershire\, GL2 9PG\, United Kingdom
CATEGORIES:Beginners Cushions
END:VEVENT
BEGIN:VEVENT
DTSTART;TZID=Europe/London:20230606T093000
DTEND;TZID=Europe/London:20230606T160000
DTSTAMP:20260420T131752
CREATED:20221107T111636Z
LAST-MODIFIED:20230216T144834Z
UID:276377-1686043800-1686067200@www.thecotswoldsewingschool.co.uk
SUMMARY:Bolster cushions
DESCRIPTION:
URL:https://www.thecotswoldsewingschool.co.uk/event/bolster-cushions-5/
LOCATION:Cotswold Sewing School\, Twigworth Court Business Centre\, Twigworth\, Gloucestershire\, GL2 9PG\, United Kingdom
CATEGORIES:Bolster cushions
ATTACH;FMTTYPE=image/jpeg:https://www.thecotswoldsewingschool.co.uk/wp-content/uploads/2022/05/bolster-cushions.jpg
END:VEVENT
BEGIN:VEVENT
DTSTART;TZID=Europe/London:20230610T093000
DTEND;TZID=Europe/London:20230610T160000
DTSTAMP:20260420T131752
CREATED:20221107T145926Z
LAST-MODIFIED:20221107T145926Z
UID:276432-1686389400-1686412800@www.thecotswoldsewingschool.co.uk
SUMMARY:Beginners Curtain Making
DESCRIPTION:
URL:https://www.thecotswoldsewingschool.co.uk/event/beginners-curtain-making-15/
LOCATION:Cotswold Sewing School\, Twigworth Court Business Centre\, Twigworth\, Gloucestershire\, GL2 9PG\, United Kingdom
CATEGORIES:Beginners Curtains
END:VEVENT
BEGIN:VEVENT
DTSTART;TZID=Europe/London:20230611T093000
DTEND;TZID=Europe/London:20230611T163000
DTSTAMP:20260420T131752
CREATED:20221107T150134Z
LAST-MODIFIED:20221107T150134Z
UID:276431-1686475800-1686501000@www.thecotswoldsewingschool.co.uk
SUMMARY:Advanced Curtain Making - 1 Day Course
DESCRIPTION:Make an interlined curtain with a contrast border and beautiful hand finished headings.
URL:https://www.thecotswoldsewingschool.co.uk/event/advanced-curtain-making-1-day-course-10/
LOCATION:Cotswold Sewing School\, Twigworth Court Business Centre\, Twigworth\, Gloucestershire\, GL2 9PG\, United Kingdom
CATEGORIES:Advanced Curtains
END:VEVENT
END:VCALENDAR