BEGIN:VCALENDAR
VERSION:2.0
PRODID:-//Cotswold Sewing School - ECPv6.15.1.1//NONSGML v1.0//EN
CALSCALE:GREGORIAN
METHOD:PUBLISH
X-WR-CALNAME:Cotswold Sewing School
X-ORIGINAL-URL:https://www.thecotswoldsewingschool.co.uk
X-WR-CALDESC:Events for Cotswold Sewing School
REFRESH-INTERVAL;VALUE=DURATION:PT1H
X-Robots-Tag:noindex
X-PUBLISHED-TTL:PT1H
BEGIN:VTIMEZONE
TZID:Europe/London
BEGIN:DAYLIGHT
TZOFFSETFROM:+0000
TZOFFSETTO:+0100
TZNAME:BST
DTSTART:20230326T010000
END:DAYLIGHT
BEGIN:STANDARD
TZOFFSETFROM:+0100
TZOFFSETTO:+0000
TZNAME:GMT
DTSTART:20231029T010000
END:STANDARD
END:VTIMEZONE
BEGIN:VEVENT
DTSTART;TZID=Europe/London:20230926T093000
DTEND;TZID=Europe/London:20230926T173000
DTSTAMP:20260419T233119
CREATED:20230703T101727Z
LAST-MODIFIED:20230703T101727Z
UID:277649-1695720600-1695749400@www.thecotswoldsewingschool.co.uk
SUMMARY:Advanced Curtain making - 1 Day Course
DESCRIPTION:
URL:https://www.thecotswoldsewingschool.co.uk/event/advanced-curtain-making-1-day-course/
LOCATION:Cotswold Sewing School\, Twigworth Court Business Centre\, Twigworth\, Gloucestershire\, GL2 9PG\, United Kingdom
CATEGORIES:Advanced Curtains
END:VEVENT
BEGIN:VEVENT
DTSTART;TZID=Europe/London:20230928T093000
DTEND;TZID=Europe/London:20230928T163000
DTSTAMP:20260419T233119
CREATED:20221107T131832Z
LAST-MODIFIED:20230125T101147Z
UID:276364-1695893400-1695918600@www.thecotswoldsewingschool.co.uk
SUMMARY:Bolster cushions
DESCRIPTION:
URL:https://www.thecotswoldsewingschool.co.uk/event/bolster-cushions-6/
LOCATION:Gloucestershire
CATEGORIES:Bolster cushions
ATTACH;FMTTYPE=image/jpeg:https://www.thecotswoldsewingschool.co.uk/wp-content/uploads/2022/05/bolster-cushions.jpg
END:VEVENT
BEGIN:VEVENT
DTSTART;TZID=Europe/London:20230929T093000
DTEND;TZID=Europe/London:20230929T160000
DTSTAMP:20260419T233119
CREATED:20230530T171924Z
LAST-MODIFIED:20230726T084352Z
UID:276934-1695979800-1696003200@www.thecotswoldsewingschool.co.uk
SUMMARY:Beginners Curtain Making
DESCRIPTION:
URL:https://www.thecotswoldsewingschool.co.uk/event/beginners-curtain-making-2/
LOCATION:Cotswold Sewing School\, Twigworth Court Business Centre\, Twigworth\, Gloucestershire\, GL2 9PG\, United Kingdom
CATEGORIES:Beginners Curtains
END:VEVENT
BEGIN:VEVENT
DTSTART;TZID=Europe/London:20230929T093000
DTEND;TZID=Europe/London:20230929T160000
DTSTAMP:20260419T233119
CREATED:20240830T155515Z
LAST-MODIFIED:20240830T155515Z
UID:23417615-1695979800-1696003200@www.thecotswoldsewingschool.co.uk
SUMMARY:Beginners Curtain Making
DESCRIPTION:
URL:https://www.thecotswoldsewingschool.co.uk/event/beginners-curtain-making-22/
LOCATION:Cotswold Sewing School\, Twigworth Court Business Centre\, Twigworth\, Gloucestershire\, GL2 9PG\, United Kingdom
CATEGORIES:Beginners Curtains
END:VEVENT
END:VCALENDAR