BEGIN:VCALENDAR
VERSION:2.0
PRODID:-//Cotswold Sewing School - ECPv6.15.1.1//NONSGML v1.0//EN
CALSCALE:GREGORIAN
METHOD:PUBLISH
X-ORIGINAL-URL:https://www.thecotswoldsewingschool.co.uk
X-WR-CALDESC:Events for Cotswold Sewing School
REFRESH-INTERVAL;VALUE=DURATION:PT1H
X-Robots-Tag:noindex
X-PUBLISHED-TTL:PT1H
BEGIN:VTIMEZONE
TZID:Europe/London
BEGIN:DAYLIGHT
TZOFFSETFROM:+0000
TZOFFSETTO:+0100
TZNAME:BST
DTSTART:20230326T010000
END:DAYLIGHT
BEGIN:STANDARD
TZOFFSETFROM:+0100
TZOFFSETTO:+0000
TZNAME:GMT
DTSTART:20231029T010000
END:STANDARD
END:VTIMEZONE
BEGIN:VEVENT
DTSTART;TZID=Europe/London:20231016T093000
DTEND;TZID=Europe/London:20231016T160000
DTSTAMP:20260419T222535
CREATED:20230530T173632Z
LAST-MODIFIED:20230530T173632Z
UID:277656-1697448600-1697472000@www.thecotswoldsewingschool.co.uk
SUMMARY:Hard Padded Pelmet Course
DESCRIPTION:
URL:https://www.thecotswoldsewingschool.co.uk/event/hard-padded-pelmet-course/
LOCATION:Cotswold Sewing School\, Twigworth Court Business Centre\, Twigworth\, Gloucestershire\, GL2 9PG\, United Kingdom
CATEGORIES:Pelmets
END:VEVENT
BEGIN:VEVENT
DTSTART;TZID=Europe/London:20231017T093000
DTEND;TZID=Europe/London:20231017T160000
DTSTAMP:20260419T222535
CREATED:20230530T173912Z
LAST-MODIFIED:20230530T173912Z
UID:277645-1697535000-1697558400@www.thecotswoldsewingschool.co.uk
SUMMARY:Advanced Cushion making
DESCRIPTION:Learn to make a piped cushion with invisible zip. We will also look at how to attach other trims and join fabrics so you can get really creative once home 🙂
URL:https://www.thecotswoldsewingschool.co.uk/event/advanced-cushion-making-6/
LOCATION:Cotswold Sewing School\, Twigworth Court Business Centre\, Twigworth\, Gloucestershire\, GL2 9PG\, United Kingdom
CATEGORIES:Advanced Cushions
END:VEVENT
BEGIN:VEVENT
DTSTART;TZID=Europe/London:20231019T093000
DTEND;TZID=Europe/London:20231019T163000
DTSTAMP:20260419T222535
CREATED:20230205T205312Z
LAST-MODIFIED:20230719T192730Z
UID:277073-1697707800-1697733000@www.thecotswoldsewingschool.co.uk
SUMMARY:Shaped upholstered headboard course
DESCRIPTION:
URL:https://www.thecotswoldsewingschool.co.uk/event/shaped-upholstered-headboard-course-5/
LOCATION:Cotswold Sewing School\, Twigworth Court Business Centre\, Twigworth\, Gloucestershire\, GL2 9PG\, United Kingdom
CATEGORIES:Shaped upholstered headboard course
END:VEVENT
BEGIN:VEVENT
DTSTART;TZID=Europe/London:20231021T093000
DTEND;TZID=Europe/London:20231021T160000
DTSTAMP:20260419T222535
CREATED:20230721T125527Z
LAST-MODIFIED:20230721T125527Z
UID:277861-1697880600-1697904000@www.thecotswoldsewingschool.co.uk
SUMMARY:Frill cushion course
DESCRIPTION:learn how to make a cushion with pleated trim and concealed zip.
URL:https://www.thecotswoldsewingschool.co.uk/event/event-frill-cushion-course-3/
LOCATION:Cotswold Sewing School\, Twigworth Court Business Centre\, Twigworth\, Gloucestershire\, GL2 9PG\, United Kingdom
CATEGORIES:frill cushion course
END:VEVENT
BEGIN:VEVENT
DTSTART;TZID=Europe/London:20231022T093000
DTEND;TZID=Europe/London:20231022T163000
DTSTAMP:20260419T222535
CREATED:20230905T133050Z
LAST-MODIFIED:20230905T133050Z
UID:278100-1697967000-1697992200@www.thecotswoldsewingschool.co.uk
SUMMARY:AMUSF Essential Soft Furnishings
DESCRIPTION:This one academic year course begins on either Thursday 21st September 2023 or Sunday the 24th of September. \nPlease confirm on lour contact form whether you wish to start on Thursday the 21st or Sunday the 24th.
URL:https://www.thecotswoldsewingschool.co.uk/event/amusf-essential-soft-furnishings-5/
LOCATION:Cotswold Sewing School\, Twigworth Court Business Centre\, Twigworth\, Gloucestershire\, GL2 9PG\, United Kingdom
CATEGORIES:Certified Course
END:VEVENT
END:VCALENDAR