BEGIN:VCALENDAR
VERSION:2.0
PRODID:-//Cotswold Sewing School - ECPv6.15.1.1//NONSGML v1.0//EN
CALSCALE:GREGORIAN
METHOD:PUBLISH
X-ORIGINAL-URL:https://www.thecotswoldsewingschool.co.uk
X-WR-CALDESC:Events for Cotswold Sewing School
REFRESH-INTERVAL;VALUE=DURATION:PT1H
X-Robots-Tag:noindex
X-PUBLISHED-TTL:PT1H
BEGIN:VTIMEZONE
TZID:Europe/London
BEGIN:DAYLIGHT
TZOFFSETFROM:+0000
TZOFFSETTO:+0100
TZNAME:BST
DTSTART:20260329T010000
END:DAYLIGHT
BEGIN:STANDARD
TZOFFSETFROM:+0100
TZOFFSETTO:+0000
TZNAME:GMT
DTSTART:20261025T010000
END:STANDARD
END:VTIMEZONE
BEGIN:VEVENT
DTSTART;TZID=Europe/London:20260423T093000
DTEND;TZID=Europe/London:20260423T130000
DTSTAMP:20260420T225538
CREATED:20260220T132413Z
LAST-MODIFIED:20260220T132506Z
UID:25815130-1776936600-1776949200@www.thecotswoldsewingschool.co.uk
SUMMARY:Business Day - How to get started in Soft furnishings
DESCRIPTION:We know that the hardest part of taking the leap of faith into a new business is the start up. \nIn this half day business course\, The Cotswold sewing school & Industry experts\, talk you through the following: \n\nCreating Terms of business/ Look at pricing strategies/ Regulations and industry standards\nAdvice on trade accounts\, tracks and getting started\nSocial media manager explaining what to concentrate on when first marketing your business.\n\n  \nTea/coffee & buscuits provided \n  \n 
URL:https://www.thecotswoldsewingschool.co.uk/event/business-day-how-to-get-started-in-soft-furnishings/
LOCATION:Cotswold Sewing School\, Twigworth Court Business Centre\, Twigworth\, Gloucestershire\, GL2 9PG\, United Kingdom
CATEGORIES:Cushion Covers Course,frill cushion course,box cushions,Advanced Curtains,Advanced Cushions,Roman Blinds,Beginners Curtains,Beginners Cushions,Pelmets
END:VEVENT
BEGIN:VEVENT
DTSTART;TZID=Europe/London:20260424T093000
DTEND;TZID=Europe/London:20260424T163000
DTSTAMP:20260420T225538
CREATED:20251107T134012Z
LAST-MODIFIED:20251107T134012Z
UID:23419024-1777023000-1777048200@www.thecotswoldsewingschool.co.uk
SUMMARY:Hard Padded Pelmet Course
DESCRIPTION:
URL:https://www.thecotswoldsewingschool.co.uk/event/hard-padded-pelmet-course-18/
LOCATION:Cotswold Sewing School\, Twigworth Court Business Centre\, Twigworth\, Gloucestershire\, GL2 9PG\, United Kingdom
CATEGORIES:Pelmets
END:VEVENT
BEGIN:VEVENT
DTSTART;TZID=Europe/London:20260425T093000
DTEND;TZID=Europe/London:20260426T170000
DTSTAMP:20260420T225538
CREATED:20251227T164441Z
LAST-MODIFIED:20260125T153042Z
UID:25814614-1777109400-1777222800@www.thecotswoldsewingschool.co.uk
SUMMARY:2 Day Hand gathered lampshade course
DESCRIPTION:
URL:https://www.thecotswoldsewingschool.co.uk/event/2-day-hand-gathered-lampshade-course-6/
LOCATION:Cotswold Sewing School\, Twigworth Court Business Centre\, Twigworth\, Gloucestershire\, GL2 9PG\, United Kingdom
CATEGORIES:Lampshade making,Pleated lamp shade course
END:VEVENT
END:VCALENDAR