BEGIN:VCALENDAR
VERSION:2.0
PRODID:-//Cotswold Sewing School - ECPv6.15.1.1//NONSGML v1.0//EN
CALSCALE:GREGORIAN
METHOD:PUBLISH
X-ORIGINAL-URL:https://www.thecotswoldsewingschool.co.uk
X-WR-CALDESC:Events for Cotswold Sewing School
REFRESH-INTERVAL;VALUE=DURATION:PT1H
X-Robots-Tag:noindex
X-PUBLISHED-TTL:PT1H
BEGIN:VTIMEZONE
TZID:Europe/London
BEGIN:DAYLIGHT
TZOFFSETFROM:+0000
TZOFFSETTO:+0100
TZNAME:BST
DTSTART:20260329T010000
END:DAYLIGHT
BEGIN:STANDARD
TZOFFSETFROM:+0100
TZOFFSETTO:+0000
TZNAME:GMT
DTSTART:20261025T010000
END:STANDARD
END:VTIMEZONE
BEGIN:VEVENT
DTSTART;TZID=Europe/London:20260727T093000
DTEND;TZID=Europe/London:20260727T163000
DTSTAMP:20260420T213030
CREATED:20251210T150400Z
LAST-MODIFIED:20251210T150821Z
UID:25814533-1785144600-1785169800@www.thecotswoldsewingschool.co.uk
SUMMARY:Roman Blind with integrated returns
DESCRIPTION:Please note\, prior knowledge on how to make a good quality roman blind is beneficial.
URL:https://www.thecotswoldsewingschool.co.uk/event/roman-blind-with-integrated-returns-7/
LOCATION:Cotswold Sewing School\, Twigworth Court Business Centre\, Twigworth\, Gloucestershire\, GL2 9PG\, United Kingdom
CATEGORIES:Roman Blinds
END:VEVENT
END:VCALENDAR